BEGIN:VCALENDAR
VERSION:2.0
PRODID:-//Tonopah, Nevada - ECPv6.15.20//NONSGML v1.0//EN
CALSCALE:GREGORIAN
METHOD:PUBLISH
X-ORIGINAL-URL:https://www.tonopahnevada.com
X-WR-CALDESC:Events for Tonopah, Nevada
REFRESH-INTERVAL;VALUE=DURATION:PT1H
X-Robots-Tag:noindex
X-PUBLISHED-TTL:PT1H
BEGIN:VTIMEZONE
TZID:UTC
BEGIN:STANDARD
TZOFFSETFROM:+0000
TZOFFSETTO:+0000
TZNAME:UTC
DTSTART:20250101T000000
END:STANDARD
END:VTIMEZONE
BEGIN:VEVENT
DTSTART;TZID=UTC:20260215T140000
DTEND;TZID=UTC:20260215T160000
DTSTAMP:20260421T191751
CREATED:20260124T203111Z
LAST-MODIFIED:20260210T215825Z
UID:123542-1771164000-1771171200@www.tonopahnevada.com
SUMMARY:Almost\, Maine
DESCRIPTION:Tonopah Theater Group Presents\nAlmost\, Maine \nPerformed at the Tonopah High School Theater \nTickets Can Be Purchased At Tonopah Liquor Co or Online At Eventbrite
URL:https://www.tonopahnevada.com/event/almost-maine-2/
LOCATION:Tonopah High School\, 1 Tennant Ln\, Tonopah\, Nevada\, 89049
CATEGORIES:Community
ATTACH;FMTTYPE=image/png:https://www.tonopahnevada.com/wp-content/uploads/2026/01/Almost-Maine.png
GEO:38.0578924;-117.2142093
X-APPLE-STRUCTURED-LOCATION;VALUE=URI;X-ADDRESS=Tonopah High School 1 Tennant Ln Tonopah Nevada 89049;X-APPLE-RADIUS=500;X-TITLE=1 Tennant Ln:geo:-117.2142093,38.0578924
END:VEVENT
BEGIN:VEVENT
DTSTART;TZID=UTC:20260214T193000
DTEND;TZID=UTC:20260214T213000
DTSTAMP:20260421T191751
CREATED:20260124T203006Z
LAST-MODIFIED:20260210T203146Z
UID:123537-1771097400-1771104600@www.tonopahnevada.com
SUMMARY:Almost\, Maine
DESCRIPTION:Tonopah Theater Group Presents\nAlmost\, Maine \nPerformed at the Tonopah High School Theater \nTickets Can Be Purchased At Tonopah Liquor Co or Online At Eventbrite \n \n 
URL:https://www.tonopahnevada.com/event/almost-maine/
LOCATION:Tonopah High School\, 1 Tennant Ln\, Tonopah\, Nevada\, 89049
CATEGORIES:Community
ATTACH;FMTTYPE=image/png:https://www.tonopahnevada.com/wp-content/uploads/2026/01/Almost-Maine.png
GEO:38.0578924;-117.2142093
X-APPLE-STRUCTURED-LOCATION;VALUE=URI;X-ADDRESS=Tonopah High School 1 Tennant Ln Tonopah Nevada 89049;X-APPLE-RADIUS=500;X-TITLE=1 Tennant Ln:geo:-117.2142093,38.0578924
END:VEVENT
BEGIN:VEVENT
DTSTART;TZID=UTC:20260213T190000
DTEND;TZID=UTC:20260213T220000
DTSTAMP:20260421T191751
CREATED:20251029T185926Z
LAST-MODIFIED:20260212T014442Z
UID:122930-1771009200-1771020000@www.tonopahnevada.com
SUMMARY:Sweetheart Dance!
DESCRIPTION:❤️ 1st Annual Sweetheart Dance ❤️\nDress to impress\, grab your sweetheart\, and join us for a romantic night of music\, dancing\, and great company. \nMusic & cash bar by Tonopah Liquor Co.7 PM at the Tonopah Convention Center
URL:https://www.tonopahnevada.com/event/sweetheart-dance/
LOCATION:Tonopah Convention Center\, 301 Brougher Avenue\, Tonopah\, NV\, 89049
CATEGORIES:Community,Town of Tonopah
ATTACH;FMTTYPE=image/png:https://www.tonopahnevada.com/wp-content/uploads/2025/10/sweetheart-dance.png
ORGANIZER;CN="Town of Tonopah":MAILTO:jmills@tonopahnevada.com
GEO:38.0678913;-117.2323076
X-APPLE-STRUCTURED-LOCATION;VALUE=URI;X-ADDRESS=Tonopah Convention Center 301 Brougher Avenue Tonopah NV 89049;X-APPLE-RADIUS=500;X-TITLE=301 Brougher Avenue:geo:-117.2323076,38.0678913
END:VEVENT
BEGIN:VEVENT
DTSTART;TZID=UTC:20260208T120000
DTEND;TZID=UTC:20260208T210000
DTSTAMP:20260421T191751
CREATED:20251110T205249Z
LAST-MODIFIED:20251110T205249Z
UID:123079-1770552000-1770584400@www.tonopahnevada.com
SUMMARY:Super Bowl Potluck!
DESCRIPTION:Annual Super Bowl Potluck\nDoor Prizes | Squares | Raffle \nElks Lodge
URL:https://www.tonopahnevada.com/event/super-bowl-potluck/
LOCATION:Tonopah Elks Lodge\, 241 Central St\, Tonopah\, NV\, 89049\, United States
CATEGORIES:Community,Tonopah Elks Lodge
ATTACH;FMTTYPE=image/png:https://www.tonopahnevada.com/wp-content/uploads/2025/11/SUPERBOWL-FLYER.png
GEO:38.0697473;-117.233356
X-APPLE-STRUCTURED-LOCATION;VALUE=URI;X-ADDRESS=Tonopah Elks Lodge 241 Central St Tonopah NV 89049 United States;X-APPLE-RADIUS=500;X-TITLE=241 Central St:geo:-117.233356,38.0697473
END:VEVENT
BEGIN:VEVENT
DTSTART;TZID=UTC:20260205T080000
DTEND;TZID=UTC:20260205T170000
DTSTAMP:20260421T191751
CREATED:20251201T173956Z
LAST-MODIFIED:20251201T174558Z
UID:123337-1770278400-1770310800@www.tonopahnevada.com
SUMMARY:Bishop Veterinary Hospital Clinic
DESCRIPTION:Tonopah Clinic\n8 AM – 5 PM \nCall 775-482-3399 for Appointments
URL:https://www.tonopahnevada.com/event/bishop-veterinary-hospital-clinic-3/
LOCATION:NV
CATEGORIES:Community
ATTACH;FMTTYPE=image/png:https://www.tonopahnevada.com/wp-content/uploads/2025/12/Bishop-Veterinary-Hospital-logo.png
END:VEVENT
BEGIN:VEVENT
DTSTART;TZID=UTC:20260129T160000
DTEND;TZID=UTC:20260129T190000
DTSTAMP:20260421T191751
CREATED:20251222T193152Z
LAST-MODIFIED:20251231T171240Z
UID:123412-1769702400-1769713200@www.tonopahnevada.com
SUMMARY:Find Your Folklife Exhibit!
DESCRIPTION:Find Your Folklife- Stories of Nevadans\nJoin us at the Tonopah Convention Center for an evening of snacks\, refreshments\, and a great exhibit celebrating Nevadans! \n4 PM – 7 PM \n \n 
URL:https://www.tonopahnevada.com/event/find-your-folklife-exhibit/
LOCATION:Tonopah Convention Center\, 301 Brougher Avenue\, Tonopah\, NV\, 89049
CATEGORIES:Community,Tonopah Elks Lodge,Town of Tonopah
GEO:38.0678913;-117.2323076
X-APPLE-STRUCTURED-LOCATION;VALUE=URI;X-ADDRESS=Tonopah Convention Center 301 Brougher Avenue Tonopah NV 89049;X-APPLE-RADIUS=500;X-TITLE=301 Brougher Avenue:geo:-117.2323076,38.0678913
END:VEVENT
BEGIN:VEVENT
DTSTART;TZID=UTC:20260122T080000
DTEND;TZID=UTC:20260122T170000
DTSTAMP:20260421T191751
CREATED:20251201T173508Z
LAST-MODIFIED:20251201T173508Z
UID:123334-1769068800-1769101200@www.tonopahnevada.com
SUMMARY:Bishop Veterinary Hospital
DESCRIPTION:Tonopah Clinic\n8 AM – 5 PM \nCall 775-482-3399 for an Appointment
URL:https://www.tonopahnevada.com/event/bishop-veterinary-hospital/
LOCATION:NV
CATEGORIES:Community
ATTACH;FMTTYPE=image/png:https://www.tonopahnevada.com/wp-content/uploads/2025/12/Bishop-Veterinary-Hospital-logo.png
END:VEVENT
END:VCALENDAR