BEGIN:VCALENDAR
VERSION:2.0
PRODID:-//Tonopah, Nevada - ECPv6.15.20//NONSGML v1.0//EN
CALSCALE:GREGORIAN
METHOD:PUBLISH
X-WR-CALNAME:Tonopah, Nevada
X-ORIGINAL-URL:https://www.tonopahnevada.com
X-WR-CALDESC:Events for Tonopah, Nevada
REFRESH-INTERVAL;VALUE=DURATION:PT1H
X-Robots-Tag:noindex
X-PUBLISHED-TTL:PT1H
BEGIN:VTIMEZONE
TZID:UTC
BEGIN:STANDARD
TZOFFSETFROM:+0000
TZOFFSETTO:+0000
TZNAME:UTC
DTSTART:20250101T000000
END:STANDARD
END:VTIMEZONE
BEGIN:VEVENT
DTSTART;VALUE=DATE:20260813
DTEND;VALUE=DATE:20260817
DTSTAMP:20260420T141602
CREATED:20251117T202607Z
LAST-MODIFIED:20251117T202607Z
UID:123249-1786579200-1786924799@www.tonopahnevada.com
SUMMARY:Vegas to Reno OHV Race
DESCRIPTION:Best in The Desert Vegas to Reno Race\nOff-Road Racing at its Best!
URL:https://www.tonopahnevada.com/event/vegas-to-reno-ohv-race/
CATEGORIES:Community,Off-Road Racing
END:VEVENT
END:VCALENDAR